Workbook

Sheet Photoshop 1.0.0
A1: Benchmark Results:
A3: Test | B3: Setting | C3: Result | D3: Units | E3: Preset | F3: Inverse | H3: Calculated Score | I3: Difference | L3: Weight
A4: Overall Score (Standard) | C4: 9732 | H4: =ROUND(GEOMEAN(H5:H6)*'Photoshop 1.0.0'!$L$4,0) -> 9728 | I4: =MAX(C4,H4)/MIN(C4,H4) -> 1.0004112 | K4: =A4 -> Overall Score (Standard) | L4: 100
A5: General Score (Standard) | B5: General | C5: 104 | H5: =ROUND(GEOMEAN(F7:F15,F24:F27)*'Photoshop 1.0.0'!$L$5,0) -> 104 | I5: =MAX(C5,H5)/MIN(C5,H5) -> 1 | K5: =A5 -> General Score (Standard) | L5: 250
A6: Filter Score (Standard) | B6: Filter | C6: 91.5 | H6: =ROUND(GEOMEAN(F16:F23)*'Photoshop 1.0.0'!$L$6,0) -> 91 | I6: =MAX(C6,H6)/MIN(C6,H6) -> 1.0054945 | K6: =A6 -> Filter Score (Standard) | L6: 690
A7: File Open - RAW | B7: General | C7: 1.19 | D7: seconds | E7: Standard | F7: =1/C7 -> 0.84033613
A8: Resize to 150MP - Preserve Details | B8: General | C8: 1.41 | D8: seconds | E8: Standard | F8: =1/C8 -> 0.70921986
A9: Resize to 150MP - Bicubic Smooth | B9: General | C9: 0.3 | D9: seconds | E9: Standard | F9: =1/C9 -> 3.3333333
A10: Rotate | B10: General | C10: 0.93 | D10: seconds | E10: Standard | F10: =1/C10 -> 1.0752688
A11: Select Subject | B11: General | C11: 2.21 | D11: seconds | E11: Standard | F11: =1/C11 -> 0.45248869
A12: Select and Mask | B12: General | C12: 3.31 | D12: seconds | E12: Standard | F12: =1/C12 -> 0.3021148
A13: Convert to Smart Object | B13: General | C13: 1.55 | D13: seconds | E13: Standard | F13: =1/C13 -> 0.64516129
A14: Paint Bucket | B14: General | C14: 1.08 | D14: seconds | E14: Standard | F14: =1/C14 -> 0.92592593
A15: Smudge Tool | B15: General | C15: 10.68 | D15: seconds | E15: Standard | F15: =1/C15 -> 0.093632959
A16: Adaptive Wide Angle | B16: Filter | C16: 94.99 | D16: seconds | E16: Standard | F16: =1/C16 -> 0.010527424
A17: Camera Raw | B17: Filter | C17: 2.35 | D17: seconds | E17: Standard | F17: =1/C17 -> 0.42553191
A18: Lens Correction | B18: Filter | C18: 18.75 | D18: seconds | E18: Standard | F18: =1/C18 -> 0.053333333
... A27: File Open - PSD | B27: General | C27: 3.35 | D27: seconds | E27: Standard | F27: =1/C27 -> 0.29850746

Sheet Premiere Pro 2.0.0
A1: Benchmark Results:
A3: Test | B3: Setting | C3: Result | D3: Units | E3: Preset | G3: Calculated Score | H3: Difference | L3: Weight
A4: Overall Score (Standard) | C4: 107325 | G4: =ROUND(GEOMEAN(G6:G9)*'Premiere Pro 2.0.0'!$L$4,0) -> 107325 | H4: =MAX(C4,G4)/MIN(C4,G4) -> 1 | K4: Overall Score (Extended) | L4: 1000
A5: Overall Score (Extended) | C5: 81379 | G5: =ROUND(GEOMEAN(G10:G13)*'Premiere Pro 2.0.0'!$L$4,0) -> 81379 | H5: =MAX(C5,G5)/MIN(C5,G5) -> 1 | K5: LongGOP | L5: 0.95
A6: LongGOP Score (Standard) | B6: LongGOP | C6: 92.4 | G6: =GEOMEAN(GEOMEAN(C14:C15,C22:C23),GEOMEAN(C39))*'Premiere Pro 2.0.0'!$L$5 -> 92.389627 | H6: =MAX(C6,G6)/MIN(C6,G6) -> 1.0001123 | K6: Intraframe | L6: 0.91
A7: Intraframe Score (Standard) | B7: Intraframe | C7: 109 | G7: =GEOMEAN(GEOMEAN(C16:C17,C27:C28),GEOMEAN(C19:C20,C29:C31))*$L$6 -> 109.34029 | H7: =MAX(C7,G7)/MIN(C7,G7) -> 1.0031219 | K7: RAW | L7: 2.12
A8: RAW Score (Standard) | B8: RAW | C8: 166 | G8: =GEOMEAN(GEOMEAN(GEOMEAN(C32),GEOMEAN(C36)))*'Premiere Pro 2.0.0'!$L$7 -> 165.67628 | H8: =MAX(C8,G8)/MIN(C8,G8) -> 1.0019539 | K8: GPU Effects | L8: 7.6
A9: GPU Effects Score (Standard) | B9: GPU Effects | C9: 79.3 | G9: =GEOMEAN(C42:C44)*'Premiere Pro 2.0.0'!$L$8 -> 79.276528 | H9: =MAX(C9,G9)/MIN(C9,G9) -> 1.0002961
A10: LongGOP Score (Extended) | B10: LongGOP | C10: 67.9 | G10: =GEOMEAN(GEOMEAN(C14:C15,C22:C23),GEOMEAN(C24:C26),GEOMEAN(C39:C40))*'Premiere Pro 2.0.0'!$L$5 -> 67.923567 | H10: =MAX(C10,G10)/MIN(C10,G10) -> 1.0003471
A11: Intraframe Score (Extended) | B11: Intraframe | C11: 60 | G11: =GEOMEAN(GEOMEAN(C16:C18,C27:C28),GEOMEAN(C19:C21,C29:C31),GEOMEAN(C41))*$L$6 -> 60.028328 | H11: =MAX(C11,G11)/MIN(C11,G11) -> 1.0004721
A12: RAW Score (Extended) | B12: RAW | C12: 117 | G12: =GEOMEAN(GEOMEAN(GEOMEAN(C32),GEOMEAN(C33),GEOMEAN(C34),GEOMEAN(C35),GEOMEAN(C36:C38)))*'Premiere Pro 2.0.0'!$L$7 -> 116.52907 | H12: =MAX(C12,G12)/MIN(C12,G12) -> 1.0040413
A13: GPU Effects Score (Extended) | B13: GPU Effects | C13: 92.3 | G13: =GEOMEAN(C42:C47)*'Premiere Pro 2.0.0'!$L$8 -> 92.307556 | H13: =MAX(C13,G13)/MIN(C13,G13) -> 1.0000819
A14: Encoding - H.264 50Mbps 8-bit UHD | B14: LongGOP | C14: 135.61 | E14: Standard/Extended
A15: Encoding - H.264 10Mbps 8-bit HD | B15: LongGOP | C15: 504.31 | E15: Standard/Extended
A16: Encoding - DNxHR LB UHD | B16: Intraframe | C16: 79.95 | E16: Standard/Extended
A17: Encoding - DNxHR SQ UHD | B17: Intraframe | C17: 79.11 | E17: Standard/Extended
A18: Encoding - DNxHR HQX UHD | B18: Intraframe | C18: 59.41 | E18: Extended
A19: Encoding - ProRes 422 Proxy UHD | B19: Intraframe | C19: 349.63 | E19: Standard/Extended
A20: Encoding - ProRes 422HQ UHD | B20: Intraframe | C20: 216.25 | E20: Standard/Extended
A21: Encoding - ProRes 4444 UHD | B21: Intraframe | C21: 67.37 | E21: Extended
A22: Processing - 4K H.264 150Mbps 4:2:0 8-bit | B22: LongGOP | C22: 129.31 | D22: fps | E22: Standard/Extended
A23: Processing - 4K H.264 150Mbps 4:2:0 8-bit 4x MultiStream | B23: LongGOP | C23: 43.33 | D23: fps | E23: Standard/Extended
A24: Processing - 4K HEVC 100Mbps 4:2:2 10-bit | B24: LongGOP | C24: 114.84 | D24: fps | E24: Extended
A25: Processing - 4K HEVC 100Mbps 4:2:2 10-bit 4x MultiStream | B25: LongGOP | C25: 26.56 | D25: fps | E25: Extended
A26: Processing - 8K HEVC 100Mbps 4:2:0 8-bit | B26: LongGOP | C26: 65.87 | D26: fps | E26: Extended
A27: Processing - 4K DNxHR LB | B27: Intraframe | C27: 201.17 | D27: fps | E27: Standard/Extended
A28: Processing - 4K DNxHR SQ | B28: Intraframe | C28: 221 | D28: fps | E28: Standard/Extended
A29: Processing - 4K ProRes 422 Proxy | B29: Intraframe | C29: 99.71 | D29: fps | E29: Standard/Extended
A30: Processing - 4K ProRes 422 | B30: Intraframe | C30: 97.72 | D30: fps | E30: Standard/Extended
A31: Processing - 4K ProRes 422 4x MultiStream | B31: Intraframe | C31: 23.38 | D31: fps | E31: Standard/Extended
A32: Processing - 4K Canon Cinema RAW Light | B32: RAW | C32: 88.64 | D32: fps | E32: Standard/Extended
A33: Processing - 4K ARRIRAW | B33: RAW | C33: 102.07 | D33: fps | E33: Extended
... A42: GPU Effects - Echo Glow x3 | B42: GPU Effects | C42: 13.67 | D42: fps | E42: Standard/Extended
A43: GPU Effects - Bokeh Blur x2 | B43: GPU Effects | C43: 6.29 | E43: Standard/Extended
A44: GPU Effects - Edge Glow x3 | B44: GPU Effects | C44: 13.2 | E44: Standard/Extended
A45: GPU Effects - Wonder Glow x3 | B45: GPU Effects | C45: 12.62 | E45: Extended
A46: GPU Effects - VR Digital Glitch x20 | B46: GPU Effects | C46: 21.93 | E46: Extended
A47: GPU Effects - VR De-Noise x4 | B47: GPU Effects | C47: 10.22 | E47: Extended

Sheet Premiere Pro 1.0.0
A1: Benchmark Results:
A3: Test | B3: Setting | C3: Result | D3: Units | E3: Preset | G3: Calculated Score | H3: Difference | L3: Weight
A4: Overall Score (Standard) | C4: 10852 | G4: =ROUND(GEOMEAN(G6:G9)*'Premiere Pro 1.0.0'!$L$4,0) -> 10852 | H4: =MAX(C4,G4)/MIN(C4,G4) -> 1 | K4: Overall Score (Extended) | L4: 100
A5: Overall Score (Extended) | C5: 7345 | G5: =ROUND(GEOMEAN(G10:G13)*'Premiere Pro 1.0.0'!$L$4,0) -> 7345 | H5: =MAX(C5,G5)/MIN(C5,G5) -> 1 | K5: LongGOP | L5: 0.95
A6: LongGOP Score (Standard) | B6: LongGOP | C6: 97.2 | G6: =GEOMEAN(GEOMEAN(C14:C15,C17:C18),GEOMEAN(C26))*'Premiere Pro 1.0.0'!$L$5 -> 97.214653 | H6: =MAX(C6,G6)/MIN(C6,G6) -> 1.0001508 | K6: Intraframe | L6: 0.91
A7: Intraframe Score (Standard) | B7: Intraframe | C7: 104 | G7: =GEOMEAN(GEOMEAN(C20:C21,C23:C24),GEOMEAN(C29:C32))*'Premiere Pro 1.0.0'!$L$6 -> 103.68152 | H7: =MAX(C7,G7)/MIN(C7,G7) -> 1.0030717 | K7: RAW | L7: 2.12
A8: RAW Score (Standard) | B8: RAW | C8: 164 | G8: =GEOMEAN(GEOMEAN(C36))*'Premiere Pro 1.0.0'!$L$7 -> 163.9396 | H8: =MAX(C8,G8)/MIN(C8,G8) -> 1.0003684 | K8: GPU Effects | L8: 1.18
A9: GPU Effects Score (Standard) | B9: GPU Effects | C9: 83.9 | G9: =GEOMEAN(C38:C40)*'Premiere Pro 1.0.0'!$L$8 -> 83.941927 | H9: =MAX(C9,G9)/MIN(C9,G9) -> 1.0004997
A10: LongGOP Score (Extended) | B10: LongGOP | C10: 72.4 | G10: =GEOMEAN(GEOMEAN(C14:C19),GEOMEAN(C26:C28))*'Premiere Pro 1.0.0'!$L$5 -> 72.43258 | H10: =MAX(C10,G10)/MIN(C10,G10) -> 1.00045
A11: Intraframe Score (Extended) | B11: Intraframe | C11: 92.1 | G11: =GEOMEAN(GEOMEAN(C20:C25),GEOMEAN(C29:C32))*'Premiere Pro 1.0.0'!$L$6 -> 92.094068 | H11: =MAX(C11,G11)/MIN(C11,G11) -> 1.0000644
A12: RAW Score (Extended) | B12: RAW | C12: 68.1 | G12: =GEOMEAN(GEOMEAN(C33:C37))*'Premiere Pro 1.0.0'!$L$7 -> 68.087361 | H12: =MAX(C12,G12)/MIN(C12,G12) -> 1.0001856
A13: GPU Effects Score (Extended) | B13: GPU Effects | C13: 64.1 | G13: =GEOMEAN(C38:C42)*'Premiere Pro 1.0.0'!$L$8 -> 64.096712 | H13: =MAX(C13,G13)/MIN(C13,G13) -> 1.0000513
A14: Encoding - H.264 50Mbps 8-bit UHD | B14: LongGOP | C14: 176.44 | E14: Standard/Extended
A15: Encoding - HEVC 50Mbps 8-bit UHD | B15: LongGOP | C15: 170.38 | E15: Standard/Extended
A16: Encoding - HEVC 60Mbps 10-bit UHD | B16: LongGOP | C16: 166.13 | E16: Extended
A17: Encoding - H.264 50Mbps 8-bit (Software Encoding) UHD | B17: LongGOP | C17: 53.57 | E17: Standard/Extended
A18: Encoding - HEVC 50Mbps 8-bit (Software Encoding) UHD | B18: LongGOP | C18: 42.81 | E18: Standard/Extended
A19: Encoding - HEVC 60Mbps 10-bit (Software Encoding) UHD | B19: LongGOP | C19: 25.05 | E19: Extended
A20: Encoding - DNxHR LB UHD | B20: Intraframe | C20: 69.16 | E20: Standard/Extended
A21: Encoding - DNxHR SQ UHD | B21: Intraframe | C21: 67.81 | E21: Standard/Extended
A22: Encoding - DNxHR HQX UHD | B22: Intraframe | C22: 48.35 | D22: fps | E22: Extended
A23: Encoding - ProRes 422 Proxy UHD | B23: Intraframe | C23: 217.88 | D23: fps | E23: Standard/Extended
A24: Encoding - ProRes 422HQ UHD | B24: Intraframe | C24: 145.62 | D24: fps | E24: Standard/Extended
A25: Encoding - ProRes 4444 UHD | B25: Intraframe | C25: 60.85 | D25: fps | E25: Extended
A26: Processing - 4K H.264 150Mbps 4:2:0 8-bit | B26: LongGOP | C26: 114.92 | D26: fps | E26: Standard/Extended
A27: Processing - 4K HEVC 100Mbps 4:2:2 10-bit | B27: LongGOP | C27: 76.83 | D27: fps | E27: Extended
A28: Processing - 8K HEVC 100Mbps 4:2:0 8-bit | B28: LongGOP | C28: 41.54 | D28: fps | E28: Extended
A29: Processing - 4K ProRes 422 Proxy | B29: Intraframe | C29: 75.73 | D29: fps | E29: Standard/Extended
A30: Processing - 4K ProRes 422 | B30: Intraframe | C30: 72.55 | D30: fps | E30: Standard/Extended
A31: Processing - 4K DNxHR LB | B31: Intraframe | C31: 182.22 | D31: fps | E31: Standard/Extended
A32: Processing - 4K DNxHR SQ | B32: Intraframe | C32: 190.63 | D32: fps | E32: Standard/Extended
A33: Processing - 4K Cinema RAW Light ST | B33: RAW | C33: 11.81 | D33: fps | E33: Extended
... A42: GPU Effects - VR De-Noise x4 | B42: GPU Effects | C42: 33.24 | D42: fps | E42: Extended

Sheet After Effects 1.0.0
A1: Benchmark Results:
A3: Test | B3: Setting | C3: Result | D3: Units | E3: Preset | G3: Inverse | H3: Calculated Score | I3: Difference | L3: Weight
A4: Overall Score (Standard) | C4: 6232 | H4: =ROUND(GEOMEAN(H6:H8)*L4,0) -> 6232 | I4: =MAX(C4,H4)/MIN(C4,H4) -> 1 | K4: =A4 -> Overall Score (Standard) | L4: 100
A5: Overall Score (Extended) | C5: 4841 | H5: =ROUND(GEOMEAN(H9:H11)*L5,0) -> 4841 | I5: =MAX(C5,H5)/MIN(C5,H5) -> 1 | K5: =A5 -> Overall Score (Extended) | L5: 100
A6: 2D Score (Standard) | B6: 2D | C6: 127 | H6: =GEOMEAN(C12:C16)*L9 -> 126.90085 | I6: =MAX(C6,H6)/MIN(C6,H6) -> 1.0007814 | K6: =A6 -> 2D Score (Standard) | L6: 17
A7: 3D Score (Standard) | B7: 3D | C7: 23.8 | H7: =GEOMEAN(C21:C22)*L10 -> 23.790322 | I7: =MAX(C7,H7)/MIN(C7,H7) -> 1.0004068 | K7: =A7 -> 3D Score (Standard) | L7: 21
A8: Tracking Score (Standard) | B8: Tracking | C8: 80.2 | H8: =GEOMEAN(C25:C26)*L11 -> 80.173874 | I8: =MAX(C8,H8)/MIN(C8,H8) -> 1.0003259 | K8: =A8 -> Tracking Score (Standard) | L8: 10
A9: 2D Score (Extended) | B9: 2D | C9: 71.9 | H9: =GEOMEAN(C12:C20)*L9 -> 71.869411 | I9: =MAX(C9,H9)/MIN(C9,H9) -> 1.0004256 | K9: =A9 -> 2D Score (Extended) | L9: 17
A10: 3D Score (Extended) | B10: 3D | C10: 21.6 | H10: =GEOMEAN(C21:C24)*L10 -> 21.648633 | I10: =MAX(C10,H10)/MIN(C10,H10) -> 1.0022515 | K10: =A10 -> 3D Score (Extended) | L10: 21
A11: Tracking Score (Extended) | B11: Tracking | C11: 72.9 | H11: =GEOMEAN(C25:C27)*L11 -> 72.911217 | I11: =MAX(C11,H11)/MIN(C11,H11) -> 1.0001539 | K11: =A11 -> Tracking Score (Extended) | L11: 10
A12: Render - Skater | B12: 2D | C12: 5.45 | D12: fps | E12: Standard/Extended | G12: =1/C12 -> 0.18348624
A13: Render - Behaviors Animation Presets | B13: 2D | C13: 17.64 | D13: fps | E13: Standard/Extended | G13: =1/C13 -> 0.056689342
A14: Render - Phone Composite | B14: 2D | C14: 7.91 | D14: fps | E14: Standard/Extended | G14: =1/C14 -> 0.12642225
A15: Render - Realistic Rain | B15: 2D | C15: 4.13 | D15: fps | E15: Standard/Extended | G15: =1/C15 -> 0.24213075
A16: Render - Glitch | B16: 2D | C16: 7.38 | D16: fps | E16: Standard/Extended | G16: =1/C16 -> 0.13550136
A17: Render - Wolverito | B17: 2D | C17: 0.5 | D17: fps | E17: Extended | G17: =1/C17 -> 2
A18: Render - Shapes Animation Presets | B18: 2D | C18: 5.88 | D18: fps | E18: Extended | G18: =1/C18 -> 0.17006803
A19: Render - Cloud Lightning | B19: 2D | C19: 3.86 | D19: fps | E19: Extended | G19: =1/C19 -> 0.25906736
A20: Render - Pulse | B20: 2D | C20: 1.64 | D20: fps | E20: Extended | G20: =1/C20 -> 0.6097561
A21: Render - 3D Simple Text | B21: 3D | C21: 1.38 | D21: fps | E21: Standard/Extended | G21: =1/C21 -> 0.72463768
A22: Render - 3D Depth | B22: 3D | C22: 0.93 | D22: fps | E22: Standard/Extended | G22: =1/C22 -> 1.0752688
A23: Render - 3D Camera Explode | B23: 3D | C23: 0.8 | D23: fps | E23: Extended | G23: =1/C23 -> 1.25
... A27: Tracking - 3D Camera Tracker | B27: Tracking | C27: 6.03 | D27: fps | E27: Extended | G27: =1/C27 -> 0.16583748

Sheet Lightroom Classic 1.0.0
A1: Benchmark Results:
A3: Test | B3: Setting | C3: Result | D3: Units | E3: Preset | F3: Inverse | H3: Calculated Score | I3: Difference | L3: Weight
A4: Overall Score (Standard) | C4: 9694 | H4: =ROUND(GEOMEAN(H6:H7)*L4,0) -> 9694 | I4: =MAX(C4,H4)/MIN(C4,H4) -> 1 | K4: =A4 -> Overall Score (Standard) | L4: 100
A5: Overall Score (Extended) | C5: 7878 | H5: =ROUND(GEOMEAN(H9:H12)*L5,0) -> 7878 | I5: =MAX(C5,H5)/MIN(C5,H5) -> 1 | K5: =A5 -> Overall Score (Extended) | L5: 100
A6: Canon Score (Standard) | B6: Canon | C6: 127 | H6: =ROUND(GEOMEAN(F13:F16)*L6,0) -> 127 | I6: =MAX(C6,H6)/MIN(C6,H6) -> 1 | K6: =A6 -> Canon Score (Standard) | L6: 2000
A7: Panasonic Score (Standard) | B7: Panasonic | C7: 74 | H7: =ROUND(GEOMEAN(F17:F20)*L7,0) -> 74 | I7: =MAX(C7,H7)/MIN(C7,H7) -> 1 | K7: =A7 -> Panasonic Score (Standard) | L7: =L6 -> 2000
A8: Canon Score (Extended) | B8: Canon | C8: 127 | H8: =ROUND(GEOMEAN(F13:F16)*L8,0) -> 127 | I8: =MAX(C8,H8)/MIN(C8,H8) -> 1 | K8: =A8 -> Canon Score (Extended) | L8: =L7 -> 2000
A9: Panasonic Score (Extended) | B9: Panasonic | C9: 74 | H9: =ROUND(GEOMEAN(F17:F20)*L9,0) -> 74 | I9: =MAX(C9,H9)/MIN(C9,H9) -> 1 | K9: =A9 -> Panasonic Score (Extended) | L9: =L8 -> 2000
A10: Sony Score (Extended) | B10: Sony | C10: 74 | H10: =ROUND(GEOMEAN(F21:F24)*L10,0) -> 74 | I10: =MAX(C10,H10)/MIN(C10,H10) -> 1 | K10: =A10 -> Sony Score (Extended) | L10: =L9 -> 2000
A11: Nikon Score (Extended) | B11: Nikon | C11: 67 | H11: =ROUND(GEOMEAN(F25:F28)*L11,0) -> 67 | I11: =MAX(C11,H11)/MIN(C11,H11) -> 1 | K11: =A11 -> Nikon Score (Extended) | L11: =L10 -> 2000
A12: AI Score (Extended) | B12: AI | C12: 105 | H12: =ROUND(GEOMEAN(F29:F34)*L12,0) -> 105 | I12: =MAX(C12,H12)/MIN(C12,H12) -> 1 | K12: AI Score (Extended) | L12: 450
A13: Import 250 Photos - Canon | B13: Canon | C13: 4.51 | D13: seconds | E13: Standard/Extended | F13: =1/C13 -> 0.22172949
A14: Create 100 Smart Previews - Canon | B14: Canon | C14: 19.18 | D14: seconds | E14: Standard/Extended | F14: =1/C14 -> 0.052137643
A15: Export 100 JPG - Canon | B15: Canon | C15: 37.13 | D15: seconds | E15: Standard/Extended | F15: =1/C15 -> 0.0269324
A16: Export 100 DNG - Canon | B16: Canon | C16: 19.03 | D16: seconds | E16: Standard/Extended | F16: =1/C16 -> 0.052548607
A17: Import 250 Photos - Panasonic | B17: Panasonic | C17: 6 | D17: seconds | E17: Standard/Extended | F17: =1/C17 -> 0.16666667
A18: Create 100 Smart Previews - Panasonic | B18: Panasonic | C18: 62.67 | D18: seconds | E18: Standard/Extended | F18: =1/C18 -> 0.015956598
A19: Export 100 JPG - Panasonic | B19: Panasonic | C19: 22.2 | D19: seconds | E19: Standard/Extended | F19: =1/C19 -> 0.045045045
A20: Export 100 DNG - Panasonic | B20: Panasonic | C20: 63.19 | D20: seconds | E20: Standard/Extended | F20: =1/C20 -> 0.015825289
A21: Import 250 Photos - Sony | B21: Sony | C21: 4.57 | D21: seconds | E21: Extended | F21: =1/C21 -> 0.21881838
A22: Create 100 Smart Previews - Sony | B22: Sony | C22: 112.84 | D22: seconds | E22: Extended | F22: =1/C22 -> 0.0088621056
A23: Export 100 JPG - Sony | B23: Sony | C23: 28.48 | D23: seconds | E23: Extended | F23: =1/C23 -> 0.03511236
A24: Export 100 DNG - Sony | B24: Sony | C24: 36.01 | D24: seconds | E24: Extended | F24: =1/C24 -> 0.027770064
... A34: Super Resolution (4 image average) | B34: AI | C34: 6.74 | D34: seconds | E34: Extended | F34: =1/C34 -> 0.14836795

Sheet DaVinci Resolve 2.0.0
A1: Benchmark Results:
A3: Test | B3: Setting | C3: Result | D3: Units | E3: Preset | G3: Calculated Score | H3: Difference | K3: Weight
A4: Overall Score (Basic) | C4: 125135 | G4: =ROUND(GEOMEAN(G19:G22)*'DaVinci Resolve 2.0.0'!$K$4,0) -> 125135 | H4: =MAX(C4,G4)/MIN(C4,G4) -> 1 | J4: Overall | K4: 1000
A5: Overall Score (Standard) | C5: 101357 | G5: =ROUND(GEOMEAN(G7:G12)*$K$4,0) -> 101205 | H5: =MAX(C5,G5)/MIN(C5,G5) -> 1.0015019 | J5: LongGOP | K5: 0.85
A6: Overall Score (Extended) | C6: 72001 | G6: =ROUND(GEOMEAN(G13:G18)*K4,0) -> 72001 | H6: =MAX(C6,G6)/MIN(C6,G6) -> 1 | J6: IntraFrame | K6: 0.38
A7: LongGOP Score (Standard) | B7: LongGOP | C7: 59.8 | G7: =GEOMEAN(GEOMEAN(C23,C32:C33),GEOMEAN(C24),GEOMEAN(C50))*K5 -> 59.229581 | H7: =MAX(C7,G7)/MIN(C7,G7) -> 1.0096306 | J7: RAW | K7: 0.92
A8: Intraframe Score (Standard) | B8: Intraframe | C8: 84.9 | G8: =GEOMEAN(GEOMEAN(C26:C27,C38:C39),GEOMEAN(C29:C30,C37,C40:C41))*K6 -> 84.899701 | H8: =MAX(C8,G8)/MIN(C8,G8) -> 1.0000035 | J8: GPU Effects | K8: 2.3
A9: RAW Score (Standard) | B9: RAW | C9: 123 | G9: =GEOMEAN(C42,C46,GEOMEAN(C47))*K7 -> 122.59018 | H9: =MAX(C9,G9)/MIN(C9,G9) -> 1.003343 | J9: Fusion | K9: 3.5
A10: GPU Effects Score (Standard) | B10: GPU Effects | C10: 117 | G10: =GEOMEAN(C53:C57)*K8 -> 116.53545 | H10: =MAX(C10,G10)/MIN(C10,G10) -> 1.0039863 | J10: AI | K10: 1.5
A11: Fusion Score (Standard) | B11: Fusion | C11: 171 | G11: =GEOMEAN(C62:C65)*K9 -> 170.91503 | H11: =MAX(C11,G11)/MIN(C11,G11) -> 1.0004971
A12: AI Score (Standard) | B12: AI | C12: 87.5 | G12: =GEOMEAN(GEOMEAN(C68,C70),GEOMEAN(C76,C78))*K10 -> 87.513504 | H12: =MAX(C12,G12)/MIN(C12,G12) -> 1.0001543
A13: LongGOP Score (Extended) | B13: LongGOP | C13: 50.7 | G13: =GEOMEAN(GEOMEAN(C23,C32:C33),GEOMEAN(C24:C25,C34:C36),GEOMEAN(C50:C51))*K5 -> 50.692918 | H13: =MAX(C13,G13)/MIN(C13,G13) -> 1.0001397
A14: Intraframe Score (Extended) | B14: Intraframe | C14: 45.6 | G14: =GEOMEAN(GEOMEAN(C26:C28,C38:C39),GEOMEAN(C29:C31,C37,C40:C41),GEOMEAN(C52))*K6 -> 45.589406 | H14: =MAX(C14,G14)/MIN(C14,G14) -> 1.0002324
A15: RAW Score (Extended) | B15: RAW | C15: 107 | G15: =GEOMEAN(C42,C43,C44,C45,C46,GEOMEAN(C47:C49))*K7 -> 106.73343 | H15: =MAX(C15,G15)/MIN(C15,G15) -> 1.0024976
A16: GPU Effects Score (Extended) | B16: GPU Effects | C16: 84.6 | G16: =GEOMEAN(C53:C61)*K8 -> 84.567342 | H16: =MAX(C16,G16)/MIN(C16,G16) -> 1.0003862
A17: Fusion Score (Extended) | B17: Fusion | C17: 105 | G17: =GEOMEAN(C62:C67)*K9 -> 104.65127 | H17: =MAX(C17,G17)/MIN(C17,G17) -> 1.0033323
A18: AI Score (Extended) | B18: AI | C18: 63.8 | G18: =GEOMEAN(GEOMEAN(C68:C74),GEOMEAN(C75:C81))*K10 -> 63.822006 | H18: =MAX(C18,G18)/MIN(C18,G18) -> 1.0003449
A19: LongGOP Score (Basic) | B19: Not logged | G19: =GEOMEAN(GEOMEAN(C23,C32),GEOMEAN(C24))*$K5 -> 89.482813
A20: Intraframe Score (Basic) | B20: Not logged | G20: =GEOMEAN(GEOMEAN(C26:C27,C38:C39),GEOMEAN(C29:C30,C37,C40))*$K6 -> 93.579061
A21: RAW Score (Basic) | B21: Not logged | G21: =GEOMEAN(GEOMEAN(C46),GEOMEAN(C47))*$K7 -> 115.41236
A22: Fusion Score (Basic) | B22: Not logged | G22: =GEOMEAN(C62:C63)*'DaVinci Resolve 2.0.0'!$K9 -> 253.7164
A23: Encoding - H.264 50Mbps 8-bit UHD | B23: LongGOP | C23: 93.37 | D23: fps | E23: Basic/Standard/Extended
A24: Encoding - HEVC 50Mbps 8-bit UHD | B24: LongGOP | C24: 93.55 | D24: fps | E24: Basic/Standard/Extended
A25: Encoding - HEVC 60Mbps 10-bit UHD | B25: LongGOP | C25: 88.63 | D25: fps | E25: Extended
A26: Encoding - DNxHR LB UHD | B26: Intraframe | C26: 181.74 | D26: fps | E26: Basic/Standard/Extended
A27: Encoding - DNxHR SQ UHD | B27: Intraframe | C27: 181.93 | D27: fps | E27: Basic/Standard/Extended
A28: Encoding - DNxHR HQX UHD | B28: Intraframe | C28: 164.59 | D28: fps | E28: Extended
A29: Encoding - ProRes 422 Proxy UHD | B29: Intraframe | C29: 202.56 | D29: fps | E29: Basic/Standard/Extended
A30: Encoding - ProRes 422 HQ UHD | B30: Intraframe | C30: 202.75 | D30: fps | E30: Basic/Standard/Extended
A31: Encoding - ProRes 4444 UHD | B31: Intraframe | C31: 203.13 | D31: fps | E31: Extended
A32: Processing - 4K H.264 150Mbps 420 8-bit | B32: LongGOP | C32: 150.31 | D32: fps | E32: Basic/Standard/Extended
A33: Processing - 4K H.264 150Mbps 420 8-bit 4x MultiStream | B33: LongGOP | C33: 40.84 | D33: fps | E33: Standard/Extended
A34: Processing - 4K HEVC 100Mbps 422 10-bit | B34: LongGOP | C34: 98.73 | D34: fps | E34: Extended
... A81: AI RunTime - Scene Cut Detection | B81: AI | C81: 736.01 | D81: fps | E81: Extended

Sheet DaVinci Resolve 1.0.0
A1: Benchmark Results:
A3: Test | B3: Setting | C3: Result | D3: Units | E3: Preset | G3: Calculated Score | H3: Difference | K3: Weight
A4: Overall Score (Basic) | C4: 10728 | G4: =ROUND(GEOMEAN(G18:G21)*'DaVinci Resolve 1.0.0'!$K$4,0) -> 10714 | H4: =MAX(C4,G4)/MIN(C4,G4) -> 1.0013067 | J4: Overall | K4: 100
A5: Overall Score (Standard) | C5: 9735 | G5: =ROUND(GEOMEAN(G7:G11)*$K$4,0) -> 9735 | H5: =MAX(C5,G5)/MIN(C5,G5) -> 1 | J5: LongGOP | K5: 0.85
A6: Overall Score (Extended) | C6: 8549 | G6: =ROUND(GEOMEAN(G12:G17)*K4,0) -> 8549 | H6: =MAX(C6,G6)/MIN(C6,G6) -> 1 | J6: IntraFrame | K6: 0.38
A7: LongGOP Score (Standard) | B7: LongGOP | C7: 125 | G7: =ROUND(GEOMEAN(GEOMEAN(C22:C23),GEOMEAN(C28:C29))*'DaVinci Resolve 1.0.0'!$K$5,0) -> 125 | H7: =MAX(C7,G7)/MIN(C7,G7) -> 1 | J7: RAW | K7: 0.92
A8: Intraframe Score (Standard) | B8: Intraframe | C8: 67 | G8: =ROUND(GEOMEAN(GEOMEAN(C25:C26),GEOMEAN(C31:C34))*'DaVinci Resolve 1.0.0'!$K$6,0) -> 67 | H8: =MAX(C8,G8)/MIN(C8,G8) -> 1 | J8: GPU Effects | K8: 2.3
A9: RAW Score (Standard) | B9: RAW | C9: 109 | G9: =ROUND(GEOMEAN(C38:C39)*'DaVinci Resolve 1.0.0'!$K$7,0) -> 109 | H9: =MAX(C9,G9)/MIN(C9,G9) -> 1 | J9: Fusion | K9: 3.5
A10: GPU Effects Score (Standard) | B10: GPU Effects | C10: 103 | G10: =ROUND(GEOMEAN(C41:C49)*'DaVinci Resolve 1.0.0'!$K$8,0) -> 103 | H10: =MAX(C10,G10)/MIN(C10,G10) -> 1 | J10: AI | K10: 1.5
A11: Fusion Score (Standard) | B11: Fusion | C11: 93 | G11: =ROUND(GEOMEAN(C50:C55)*'DaVinci Resolve 1.0.0'!$K$9,0) -> 93 | H11: =MAX(C11,G11)/MIN(C11,G11) -> 1
A12: LongGOP Score (Extended) | B12: LongGOP | C12: 114 | G12: =ROUND(GEOMEAN(GEOMEAN(C22:C24),GEOMEAN(C28:C30))*'DaVinci Resolve 1.0.0'!$K$5,0) -> 114 | H12: =MAX(C12,G12)/MIN(C12,G12) -> 1
A13: Intraframe Score (Extended) | B13: Intraframe | C13: 67 | G13: =ROUND(GEOMEAN(GEOMEAN(C25:C27),GEOMEAN(C31:C34))*'DaVinci Resolve 1.0.0'!$K$6,0) -> 67 | H13: =MAX(C13,G13)/MIN(C13,G13) -> 1
A14: RAW Score (Extended) | B14: RAW | C14: 92 | G14: =ROUND(GEOMEAN(C35:C40)*'DaVinci Resolve 1.0.0'!$K$7,0) -> 92 | H14: =MAX(C14,G14)/MIN(C14,G14) -> 1
A15: GPU Effects Score (Extended) | B15: GPU Effects | C15: 103 | G15: =ROUND(GEOMEAN(C41:C49)*'DaVinci Resolve 1.0.0'!$K$8,0) -> 103 | H15: =MAX(C15,G15)/MIN(C15,G15) -> 1
A16: Fusion Score (Extended) | B16: Fusion | C16: 93 | G16: =ROUND(GEOMEAN(C50:C55)*'DaVinci Resolve 1.0.0'!$K$9,0) -> 93 | H16: =MAX(C16,G16)/MIN(C16,G16) -> 1
A17: AI Score (Extended) | B17: AI | C17: 58 | G17: =ROUND(GEOMEAN(GEOMEAN(C56:C63),GEOMEAN(C64:C70))*'DaVinci Resolve 1.0.0'!$K$10,0) -> 58 | H17: =MAX(C17,G17)/MIN(C17,G17) -> 1
A18: LongGOP Score (Basic) | B18: Not logged | G18: =(GEOMEAN(GEOMEAN(C22:C23),GEOMEAN(C28))*'DaVinci Resolve 1.0.0'!$K5) -> 195.05577
A19: Intraframe Score (Basic) | B19: Not logged | G19: =GEOMEAN(GEOMEAN(C25:C26),GEOMEAN(C31:C34))*'DaVinci Resolve 1.0.0'!$K6 -> 67.15309
A20: RAW Score (Basic) | B20: Not logged | G20: =GEOMEAN(C38:C39)*'DaVinci Resolve 1.0.0'!$K7 -> 108.51954
A21: Fusion Score (Basic) | B21: Not logged | G21: =GEOMEAN(C50:C55)*'DaVinci Resolve 1.0.0'!$K9 -> 92.696261
A22: Encoding - H.264 50Mbps 8-bit UHD | B22: LongGOP | C22: 165.9 | D22: fps | E22: Basic/Standard/Extended
A23: Encoding - HEVC 50Mbps 8-bit UHD | B23: LongGOP | C23: 165.68 | D23: fps | E23: Basic/Standard/Extended
A24: Encoding - HEVC 60Mbps 10-bit UHD | B24: LongGOP | C24: 166 | D24: fps | E24: Extended
A25: Encoding - DNxHR LB UHD | B25: Intraframe | C25: 139.31 | D25: fps | E25: Basic/Standard/Extended
A26: Encoding - DNxHR SQ UHD | B26: Intraframe | C26: 120.1 | D26: fps | E26: Basic/Standard/Extended
A27: Encoding - DNxHR HQX UHD | B27: Intraframe | C27: 129.1 | D27: fps | E27: Extended
A28: Processing - 4K H.264 150Mbps 420 8-bit | B28: LongGOP | C28: 317.63 | D28: fps | E28: Basic/Standard/Extended
A29: Processing - 4K HEVC 100Mbps 422 10-bit | B29: LongGOP | C29: 53.53 | D29: fps | E29: Standard/Extended
A30: Processing - 8K HEVC 100Mbps 420 8-bit | B30: LongGOP | C30: 74.04 | D30: fps | E30: Extended
A31: Processing - 4K ProRes 422 Proxy | B31: Intraframe | C31: 221.71 | D31: fps | E31: Basic/Standard/Extended
A32: Processing - 4K ProRes 422 | B32: Intraframe | C32: 222.39 | D32: fps | E32: Basic/Standard/Extended
A33: Processing - 4K DNxHR LB | B33: Intraframe | C33: 262.66 | D33: fps | E33: Basic/Standard/Extended
... A70: AI RunTime - Scene Cut Detection | B70: AI | C70: 686.37 | D70: x-realtime | E70: Extended

Sheet Unreal Engine 0.0.9-dev
A1: Benchmark Results:
A3: Test | B3: Setting | C3: Result | D3: Units | E3: Preset | F3: Inverse | G3: Calculated Score | H3: Difference | K3: Weight
A4: Overall Score (Standard) | C4: 9363 | G4: =ROUND(GEOMEAN(G6:G10)*$K$5,0) -> 9345 | H4: =MAX(C4,G4)/MIN(C4,G4) -> 1.0019262
A5: Overall Score (Extended) | C5: 7094 | G5: =ROUND(GEOMEAN(G11:G15)*K5,0) -> 7101 | H5: =MAX(C5,G5)/MIN(C5,G5) -> 1.0009867 | J5: Overall | K5: 100
A6: Compile Shaders Score (Standard) | B6: Compile Shaders | C6: 108 | G6: =ROUND(GEOMEAN(F16)*K6,0) -> 108 | H6: =MAX(C6,G6)/MIN(C6,G6) -> 1 | J6: Compile Shaders | K6: 30000
A7: Runtime Simulation Score (Standard) | B7: Runtime Simulation | C7: 142 | G7: =ROUND(GEOMEAN(GEOMEAN(C17:C18),GEOMEAN(C20:C21))*K7,0) -> 142 | H7: =MAX(C7,G7)/MIN(C7,G7) -> 1 | J7: Runtime Simulation | K7: 3
A8: Asset and Scene Initialization Score (Standard) | B8: Asset and Scene Initialization | C8: 83 | G8: =ROUND(GEOMEAN(F23,F28)*K8,0) -> 83 | H8: =MAX(C8,G8)/MIN(C8,G8) -> 1 | J8: Asset and Scene Initialization | K8: 6500
A9: Movie Render Score (Standard) | B9: Movie Render | C9: 70.3 | G9: =ROUND(GEOMEAN(C24,C29)*K9,0) -> 70 | H9: =MAX(C9,G9)/MIN(C9,G9) -> 1.0042857 | J9: Movie Render | K9: 7.5
A10: Editor Runtime Score (Standard) | B10: Editor Runtime | C10: 80.2 | G10: =ROUND(GEOMEAN(C26,C31)*K10,0) -> 80 | H10: =MAX(C10,G10)/MIN(C10,G10) -> 1.0025 | J10: Editor Runtime | K10: 3.5
A11: Compile Shaders Score (Extended) | B11: Compile Shaders | C11: 108 | G11: =ROUND(GEOMEAN(F16)*K6,0) -> 108 | H11: =MAX(C11,G11)/MIN(C11,G11) -> 1
A12: Runtime Simulation Score (Extended) | B12: Runtime Simulation | C12: 131 | G12: =ROUND(GEOMEAN(GEOMEAN(C17:C19),GEOMEAN(C20:C22))*K7,0) -> 131 | H12: =MAX(C12,G12)/MIN(C12,G12) -> 1
A13: Asset and Scene Initialization Score (Extended) | B13: Asset and Scene Initialization | C13: 135 | G13: =ROUND(GEOMEAN(F23,F28,F33,F38)*K8,0) -> 135 | H13: =MAX(C13,G13)/MIN(C13,G13) -> 1
A14: Movie Render Score (Extended) | B14: Movie Render | C14: 21 | G14: =ROUND(GEOMEAN(GEOMEAN(C24,C29),GEOMEAN(C25,C30,C34,C35))*K9,0) -> 21 | H14: =MAX(C14,G14)/MIN(C14,G14) -> 1
A15: Editor Runtime Score (Extended) | B15: Editor Runtime | C15: 44.8 | G15: =ROUND(GEOMEAN(GEOMEAN(C26,C31,C36,C39),GEOMEAN(C27,C32,C37,C40))*K10,0) -> 45 | H15: =MAX(C15,G15)/MIN(C15,G15) -> 1.0044643
A16: Compile Shaders - Main Project | B16: Compile Shaders | C16: 276.56 | D16: seconds | E16: Standard/Extended | F16: =1/C16 -> 0.0036158519
A17: Runtime Simulation - Chaos Collision | B17: Runtime Simulation | C17: 25.05 | D17: fps | E17: Standard/Extended
A18: Runtime Simulation - Chaos Cloth | B18: Runtime Simulation | C18: 37.51 | D18: fps | E18: Standard/Extended
A19: Runtime Simulation - Chaos Destruction | B19: Runtime Simulation | C19: 66.12 | D19: fps | E19: Extended
A20: Runtime Simulation - Niagara Particle Scalability | B20: Runtime Simulation | C20: 55.72 | D20: fps | E20: Standard/Extended
A21: Runtime Simulation - Niagara Smoke | B21: Runtime Simulation | C21: 95.4 | D21: fps | E21: Standard/Extended
A22: Runtime Simulation - Niagara Water | B22: Runtime Simulation | C22: 20.77 | D22: fps | E22: Extended
A23: Level Asset Preparation - PCG Forest | B23: Asset and Scene Initialization | C23: 97.34 | D23: seconds | E23: Standard/Extended | F23: =1/C23 -> 0.010273269
A24: Render Movie - PCG Forest (HD) | B24: Movie Render | C24: 14.64 | D24: fps | E24: Standard/Extended
A25: Render Movie - PCG Forest (UHD) | B25: Movie Render | C25: 2.31 | D25: fps | E25: Extended
A26: Play in Editor - PCG Forest (HD) | B26: Editor Runtime | C26: 43.14 | D26: fps | E26: Standard/Extended
A27: Play in Editor - PCG Forest (UHD) | B27: Editor Runtime | C27: 6.52 | D27: fps | E27: Extended
A28: Level Asset Preparation - Namaqualand | B28: Asset and Scene Initialization | C28: 63.08 | D28: seconds | E28: Standard/Extended | F28: =1/C28 -> 0.015852885
A29: Render Movie - Namaqualand (HD) | B29: Movie Render | C29: 6 | D29: fps | E29: Standard/Extended
A30: Render Movie - Namaqualand (UHD) | B30: Movie Render | C30: 1.8 | D30: fps | E30: Extended
A31: Play in Editor - Namaqualand (HD) | B31: Editor Runtime | C31: 12.17 | D31: fps | E31: Standard/Extended
A32: Play in Editor - Namaqualand (UHD) | B32: Editor Runtime | C32: 3.82 | D32: fps | E32: Extended
A33: Level Asset Preparation - 4004 Moore Lane | B33: Asset and Scene Initialization | C33: 46.33 | D33: seconds | E33: Extended | F33: =1/C33 -> 0.021584287
A34: Render Movie - 4004 Moore Lane (UHD) | B34: Movie Render | C34: 0.58 | D34: fps | E34: Extended
A35: Render Movie - 4004 Moore Lane (UHD) Path Traced | B35: Movie Render | C35: 0.2 | D35: fps | E35: Extended
A36: Play in Editor - 4004 Moore Lane (HD) | B36: Editor Runtime | C36: 52.67 | D36: fps | E36: Extended
A37: Play in Editor - 4004 Moore Lane (UHD) | B37: Editor Runtime | C37: 4.6 | D37: fps | E37: Extended
A38: Level Asset Preparation - MetaHuman | B38: Asset and Scene Initialization | C38: 18.91 | D38: seconds | E38: Extended | F38: =1/C38 -> 0.052882073
A39: Play in Editor - MetaHuman (HD) | B39: Editor Runtime | C39: 48.03 | D39: fps | E39: Extended
A40: Play in Editor - MetaHuman (UHD) | B40: Editor Runtime | C40: 4.72 | D40: fps | E40: Extended
